BEGIN:VCALENDAR
VERSION:2.0
PRODID:-//Contratero//ES
CALSCALE:GREGORIAN
METHOD:PUBLISH
BEGIN:VEVENT
UID:19840003300 AV 6/2019@contratero.es
DTSTAMP:20260424T213509Z
DTSTART:20190516T235959
DTEND:20190517T005959
SUMMARY:Cierre: Servicio para llevar a cabo la explotación y gesti
DESCRIPTION:Servicio para llevar a cabo la explotación y gestión del centro de atención de redes locales\, en el área de gestión de redes de área local del Departamento de Informática Tributaria.\\n\\nOrganismo: Dirección del Servicio de Gestión Económica de la Agencia Estatal de la Administración Tributaria\\n\\nVer en Contratero: https://contratero.es/contracts/19840003300 AV 6/2019
URL:https://contratero.es/contracts/19840003300 AV 6/2019
STATUS:CONFIRMED
BEGIN:VALARM
TRIGGER:-P1D
ACTION:DISPLAY
DESCRIPTION:Recordatorio: Servicio para llevar a cabo la
END:VALARM
END:VEVENT
END:VCALENDAR